BEGIN:VCALENDAR
VERSION:2.0
PRODID:icalendar-ruby
CALSCALE:GREGORIAN
METHOD:PUBLISH
BEGIN:VEVENT
DTSTAMP:20260422T192026Z
UID:11-2913900@adventaugusta.org
DTSTART:20261101T154500Z
DTEND:20261101T164500Z
CLASS:PUBLIC
CREATED:20260422T131017
DESCRIPTION:Sunday School
LAST-MODIFIED:20260422T131017
LOCATION:Advent/Zoom
SUMMARY:Sunday School
URL;VALUE=URI:https://www.adventaugusta.org/events/sunday-school/2026-11-01
ATTACH;FILENAME=smallgroups-14.jpg;FMTTYPE=image/jpeg:https://dq5pwpg1q8ru0
 .cloudfront.net/2021/12/02/08/36/33/21835ded-8865-4641-b80b-aa30d84e8886/s
 mallgroups-14.jpg
END:VEVENT
END:VCALENDAR
