BEGIN:VCALENDAR
VERSION:2.0
PRODID:icalendar-ruby
CALSCALE:GREGORIAN
METHOD:PUBLISH
BEGIN:VEVENT
DTSTAMP:20260422T104836Z
UID:11-2908640@adventaugusta.org
DTSTART:20260920T144500Z
DTEND:20260920T154500Z
CLASS:PUBLIC
CREATED:20260421T201907
DESCRIPTION:Sunday School
LAST-MODIFIED:20260421T201907
LOCATION:Advent/Zoom
SUMMARY:Sunday School
URL;VALUE=URI:https://www.adventaugusta.org/events/sunday-school/2026-09-20
ATTACH;FILENAME=smallgroups-14.jpg;FMTTYPE=image/jpeg:https://dq5pwpg1q8ru0
 .cloudfront.net/2021/12/02/08/36/33/21835ded-8865-4641-b80b-aa30d84e8886/s
 mallgroups-14.jpg
END:VEVENT
END:VCALENDAR
