BEGIN:VCALENDAR
VERSION:2.0
PRODID:icalendar-ruby
CALSCALE:GREGORIAN
METHOD:PUBLISH
BEGIN:VEVENT
DTSTAMP:20260424T153014Z
UID:81-2934725@adventaugusta.org
DTSTART:20261104T000000Z
DTEND:20261104T010000Z
CLASS:PUBLIC
CREATED:20260424T101510
DESCRIPTION:Sanctuary Choir
LAST-MODIFIED:20260424T101510
LOCATION:
SUMMARY:Sanctuary Choir
URL;VALUE=URI:https://www.adventaugusta.org/events/sanctuary-choir/2026-11-
 03
END:VEVENT
END:VCALENDAR
