BEGIN:VCALENDAR
VERSION:2.0
PRODID:icalendar-ruby
CALSCALE:GREGORIAN
METHOD:PUBLISH
BEGIN:VEVENT
DTSTAMP:20260424T140248Z
UID:81-2932970@adventaugusta.org
DTSTART:20261027T230000Z
DTEND:20261028T000000Z
CLASS:PUBLIC
CREATED:20260424T072118
DESCRIPTION:Sanctuary Choir
LAST-MODIFIED:20260424T072118
LOCATION:
SUMMARY:Sanctuary Choir
URL;VALUE=URI:https://www.adventaugusta.org/events/sanctuary-choir/2026-10-
 27
END:VEVENT
END:VCALENDAR
