BEGIN:VCALENDAR
VERSION:2.0
PRODID:icalendar-ruby
CALSCALE:GREGORIAN
METHOD:PUBLISH
BEGIN:VEVENT
DTSTAMP:20260424T123016Z
UID:81-2932969@adventaugusta.org
DTSTART:20261020T230000Z
DTEND:20261021T000000Z
CLASS:PUBLIC
CREATED:20260424T072118
DESCRIPTION:Sanctuary Choir
LAST-MODIFIED:20260424T072118
LOCATION:
SUMMARY:Sanctuary Choir
URL;VALUE=URI:https://www.adventaugusta.org/events/sanctuary-choir/2026-10-
 20
END:VEVENT
END:VCALENDAR
