BEGIN:VCALENDAR
VERSION:2.0
PRODID:icalendar-ruby
CALSCALE:GREGORIAN
METHOD:PUBLISH
BEGIN:VEVENT
DTSTAMP:20260424T063830Z
UID:81-2931212@adventaugusta.org
DTSTART:20260922T230000Z
DTEND:20260923T000000Z
CLASS:PUBLIC
CREATED:20260423T215252
DESCRIPTION:Sanctuary Choir
LAST-MODIFIED:20260423T215252
LOCATION:
SUMMARY:Sanctuary Choir
URL;VALUE=URI:https://www.adventaugusta.org/events/sanctuary-choir/2026-09-
 22
END:VEVENT
END:VCALENDAR
