BEGIN:VCALENDAR
VERSION:2.0
PRODID:icalendar-ruby
CALSCALE:GREGORIAN
METHOD:PUBLISH
BEGIN:VEVENT
DTSTAMP:20260423T140538Z
UID:66-2922411@adventaugusta.org
DTSTART:20260922T220000Z
DTEND:20260922T224500Z
CLASS:PUBLIC
CREATED:20260423T072035
DESCRIPTION:
LAST-MODIFIED:20260423T072035
LOCATION:Advent
SUMMARY:Bell Choir
URL;VALUE=URI:https://www.adventaugusta.org/events/bell-choir/2026-09-22
ATTACH;FILENAME=handbell-choir.png;FMTTYPE=image/png:https://dq5pwpg1q8ru0.
 cloudfront.net/2024/01/31/20/35/24/4c01923e-1b2a-4203-abbe-4d18b86f7aa2/ha
 ndbell-choir.png
END:VEVENT
END:VCALENDAR
