BEGIN:VCALENDAR
VERSION:2.0
PRODID:icalendar-ruby
CALSCALE:GREGORIAN
METHOD:PUBLISH
BEGIN:VEVENT
DTSTAMP:20260422T180457Z
UID:51-2915048@adventaugusta.org
DTSTART:20261015T120000Z
DTEND:20261015T130000Z
CLASS:PUBLIC
CREATED:20260422T131019
DESCRIPTION:
LAST-MODIFIED:20260422T131019
LOCATION:
SUMMARY:AA- Early Birds Meeting
URL;VALUE=URI:https://www.adventaugusta.org/events/aa-early-birds-meeting--
 51/2026-10-15
ATTACH;FILENAME=AA-450x450.jpg;FMTTYPE=image/jpeg:https://dq5pwpg1q8ru0.clo
 udfront.net/2022/07/29/11/54/10/856074b7-450d-4e06-bebd-a23480239f42/AA-45
 0x450.jpg
END:VEVENT
END:VCALENDAR
