BEGIN:VCALENDAR
VERSION:2.0
PRODID:icalendar-ruby
CALSCALE:GREGORIAN
METHOD:PUBLISH
BEGIN:VEVENT
DTSTAMP:20260423T194309Z
UID:50-2925327@adventaugusta.org
DTSTART:20260729T120000Z
DTEND:20260729T130000Z
CLASS:PUBLIC
CREATED:20260423T130901
DESCRIPTION:
LAST-MODIFIED:20260423T130901
LOCATION:
SUMMARY:AA- Early Birds Meeting
URL;VALUE=URI:https://www.adventaugusta.org/events/aa-early-birds-meeting--
 50/2026-07-29
ATTACH;FILENAME=AA-450x450.jpg;FMTTYPE=image/jpeg:https://dq5pwpg1q8ru0.clo
 udfront.net/2022/07/29/11/53/36/7d6b675a-0d39-4b91-ba1d-ef2db0a6e941/AA-45
 0x450.jpg
END:VEVENT
END:VCALENDAR
